BEGIN:VCALENDAR
VERSION:2.0
PRODID:-//Musiker &amp; Musikunderviser - ECPv6.15.20//NONSGML v1.0//EN
CALSCALE:GREGORIAN
METHOD:PUBLISH
X-ORIGINAL-URL:https://musikerogmusikunderviser.dk
X-WR-CALDESC:Begivenheder for Musiker &amp; Musikunderviser
REFRESH-INTERVAL;VALUE=DURATION:PT1H
X-Robots-Tag:noindex
X-PUBLISHED-TTL:PT1H
BEGIN:VTIMEZONE
TZID:Europe/Copenhagen
BEGIN:DAYLIGHT
TZOFFSETFROM:+0100
TZOFFSETTO:+0200
TZNAME:CEST
DTSTART:20250330T010000
END:DAYLIGHT
BEGIN:STANDARD
TZOFFSETFROM:+0200
TZOFFSETTO:+0100
TZNAME:CET
DTSTART:20251026T010000
END:STANDARD
BEGIN:DAYLIGHT
TZOFFSETFROM:+0100
TZOFFSETTO:+0200
TZNAME:CEST
DTSTART:20260329T010000
END:DAYLIGHT
BEGIN:STANDARD
TZOFFSETFROM:+0200
TZOFFSETTO:+0100
TZNAME:CET
DTSTART:20261025T010000
END:STANDARD
BEGIN:DAYLIGHT
TZOFFSETFROM:+0100
TZOFFSETTO:+0200
TZNAME:CEST
DTSTART:20270328T010000
END:DAYLIGHT
BEGIN:STANDARD
TZOFFSETFROM:+0200
TZOFFSETTO:+0100
TZNAME:CET
DTSTART:20271031T010000
END:STANDARD
END:VTIMEZONE
BEGIN:VEVENT
DTSTART;TZID=Europe/Copenhagen:20260415T093000
DTEND;TZID=Europe/Copenhagen:20260415T103000
DTSTAMP:20260421T142304
CREATED:20260324T134021Z
LAST-MODIFIED:20260413T084637Z
UID:20744-1776245400-1776249000@musikerogmusikunderviser.dk
SUMMARY:OK26 orienteringsmøde for musikskoleledere og -mellemledere
DESCRIPTION:Microsoft Teams-møde \nDeltag: https://teams.microsoft.com/meet/34621334282420?p=7KMHxsXAVqSsIW65V9 \nSkriv dit fulde navn når du anmoder om adgang! \nMøde-id: 346 213 342 824 20
URL:https://musikerogmusikunderviser.dk/ok26/ok26-orienteringsmoede-for-musikskoleledere-og-mellemledere/
LOCATION:Teams
END:VEVENT
END:VCALENDAR